BEGIN:VCALENDAR
VERSION:2.0
PRODID:-//北九州カフェの集い - ECPv6.15.11//NONSGML v1.0//EN
CALSCALE:GREGORIAN
METHOD:PUBLISH
X-WR-CALNAME:北九州カフェの集い
X-ORIGINAL-URL:https://kitakyusyu-cafe-tudoi.com
X-WR-CALDESC:北九州カフェの集い のイベント
REFRESH-INTERVAL;VALUE=DURATION:PT1H
X-Robots-Tag:noindex
X-PUBLISHED-TTL:PT1H
BEGIN:VTIMEZONE
TZID:Asia/Tokyo
BEGIN:STANDARD
TZOFFSETFROM:+0900
TZOFFSETTO:+0900
TZNAME:JST
DTSTART:20250101T000000
END:STANDARD
END:VTIMEZONE
BEGIN:VEVENT
DTSTART;TZID=Asia/Tokyo:20260124T150000
DTEND;TZID=Asia/Tokyo:20260124T160000
DTSTAMP:20260421T072005
CREATED:20251208T003700Z
LAST-MODIFIED:20251208T003700Z
UID:1312-1769266800-1769270400@kitakyusyu-cafe-tudoi.com
SUMMARY:昼カフェの集い
DESCRIPTION:参加費500円＋飲食代 \n場所　小倉北区　あつみ珈琲
URL:https://kitakyusyu-cafe-tudoi.com/event/%e6%98%bc%e3%82%ab%e3%83%95%e3%82%a7%e3%81%ae%e9%9b%86%e3%81%84/
CATEGORIES:昼カフェの集い（旧おすすめカフェの集い）
END:VEVENT
BEGIN:VEVENT
DTSTART;TZID=Asia/Tokyo:20260208T080000
DTEND;TZID=Asia/Tokyo:20260208T090000
DTSTAMP:20260421T072005
CREATED:20260201T235124Z
LAST-MODIFIED:20260201T235618Z
UID:1330-1770537600-1770541200@kitakyusyu-cafe-tudoi.com
SUMMARY:朝カフェの集い
DESCRIPTION:費用：参加費500円＋ご自身の飲食代
URL:https://kitakyusyu-cafe-tudoi.com/event/%e6%9c%9d%e3%82%ab%e3%83%95%e3%82%a7%e3%81%ae%e9%9b%86%e3%81%84-3/
LOCATION:コメダ珈琲店 北九州三郎丸店
CATEGORIES:朝カフェ
END:VEVENT
BEGIN:VEVENT
DTSTART;TZID=Asia/Tokyo:20260211T200000
DTEND;TZID=Asia/Tokyo:20260211T210000
DTSTAMP:20260421T072005
CREATED:20260201T235254Z
LAST-MODIFIED:20260201T235631Z
UID:1332-1770840000-1770843600@kitakyusyu-cafe-tudoi.com
SUMMARY:夜カフェの集い
DESCRIPTION:費用：参加費500円＋ご自身の飲食代
URL:https://kitakyusyu-cafe-tudoi.com/event/%e5%a4%9c%e3%82%ab%e3%83%95%e3%82%a7%e3%81%ae%e9%9b%86%e3%81%84-2/
LOCATION:コメダ珈琲店 北九州三郎丸店
CATEGORIES:夜カフェ
END:VEVENT
BEGIN:VEVENT
DTSTART;TZID=Asia/Tokyo:20260228T150000
DTEND;TZID=Asia/Tokyo:20260228T160000
DTSTAMP:20260421T072005
CREATED:20260201T235349Z
LAST-MODIFIED:20260201T235821Z
UID:1334-1772290800-1772294400@kitakyusyu-cafe-tudoi.com
SUMMARY:昼カフェの集い　21軒目
DESCRIPTION:費用：参加費500円＋ご自身の飲食代\nお店：Blue Blue（門司区大里本町）
URL:https://kitakyusyu-cafe-tudoi.com/event/%e6%98%bc%e3%82%ab%e3%83%95%e3%82%a7/
CATEGORIES:昼カフェの集い（旧おすすめカフェの集い）
END:VEVENT
BEGIN:VEVENT
DTSTART;TZID=Asia/Tokyo:20260228T163000
DTEND;TZID=Asia/Tokyo:20260228T183000
DTSTAMP:20260421T072005
CREATED:20260201T235457Z
LAST-MODIFIED:20260202T000136Z
UID:1336-1772296200-1772303400@kitakyusyu-cafe-tudoi.com
SUMMARY:ボウリング同好会の集い🎳
DESCRIPTION:門司シーサイドモールを予定\n費用：参加費500円＋3ゲーム1400円＋靴300円
URL:https://kitakyusyu-cafe-tudoi.com/event/%e3%83%9c%e3%82%a6%e3%83%aa%e3%83%b3%e3%82%b0%e5%90%8c%e5%a5%bd%e4%bc%9a%e3%81%ae%e9%9b%86%e3%81%84/
CATEGORIES:各種イベント
END:VEVENT
BEGIN:VEVENT
DTSTART;TZID=Asia/Tokyo:20260311T200000
DTEND;TZID=Asia/Tokyo:20260311T210000
DTSTAMP:20260421T072005
CREATED:20260305T104838Z
LAST-MODIFIED:20260305T104838Z
UID:1346-1773259200-1773262800@kitakyusyu-cafe-tudoi.com
SUMMARY:夜カフェの集い
DESCRIPTION:参加費500円＋飲食代
URL:https://kitakyusyu-cafe-tudoi.com/event/%e5%a4%9c%e3%82%ab%e3%83%95%e3%82%a7%e3%81%ae%e9%9b%86%e3%81%84-3/
LOCATION:コメダ珈琲店 北九州三郎丸店
CATEGORIES:夜カフェ
END:VEVENT
BEGIN:VEVENT
DTSTART;TZID=Asia/Tokyo:20260314T150000
DTEND;TZID=Asia/Tokyo:20260314T160000
DTSTAMP:20260421T072005
CREATED:20260305T105052Z
LAST-MODIFIED:20260305T105052Z
UID:1348-1773500400-1773504000@kitakyusyu-cafe-tudoi.com
SUMMARY:昼カフェの集い
DESCRIPTION:参加費500円＋飲食代\n場所：門司区　Blue Blue
URL:https://kitakyusyu-cafe-tudoi.com/event/%e6%98%bc%e3%82%ab%e3%83%95%e3%82%a7%e3%81%ae%e9%9b%86%e3%81%84-2/
CATEGORIES:昼カフェの集い（旧おすすめカフェの集い）
END:VEVENT
BEGIN:VEVENT
DTSTART;TZID=Asia/Tokyo:20260314T163000
DTEND;TZID=Asia/Tokyo:20260314T180000
DTSTAMP:20260421T072005
CREATED:20260305T105415Z
LAST-MODIFIED:20260305T105415Z
UID:1352-1773505800-1773511200@kitakyusyu-cafe-tudoi.com
SUMMARY:ボウリング同好会の集い
DESCRIPTION:参加費500円＋ゲーム代＋靴代 \n場所：門司シーサイドボウル
URL:https://kitakyusyu-cafe-tudoi.com/event/%e3%83%9c%e3%82%a6%e3%83%aa%e3%83%b3%e3%82%b0%e5%90%8c%e5%a5%bd%e4%bc%9a%e3%81%ae%e9%9b%86%e3%81%84-2/
CATEGORIES:各種イベント
END:VEVENT
BEGIN:VEVENT
DTSTART;TZID=Asia/Tokyo:20260322T080000
DTEND;TZID=Asia/Tokyo:20260322T090000
DTSTAMP:20260421T072005
CREATED:20260305T105211Z
LAST-MODIFIED:20260305T105211Z
UID:1350-1774166400-1774170000@kitakyusyu-cafe-tudoi.com
SUMMARY:朝カフェの集い
DESCRIPTION:参加費500円＋飲食代\nメンバーによっては戸畑変更あり
URL:https://kitakyusyu-cafe-tudoi.com/event/%e6%9c%9d%e3%82%ab%e3%83%95%e3%82%a7%e3%81%ae%e9%9b%86%e3%81%84-4/
LOCATION:コメダ珈琲店 北九州三郎丸店
CATEGORIES:朝カフェ
END:VEVENT
BEGIN:VEVENT
DTSTART;TZID=Asia/Tokyo:20260411T190000
DTEND;TZID=Asia/Tokyo:20260411T210000
DTSTAMP:20260421T072005
CREATED:20260328T120139Z
LAST-MODIFIED:20260328T120139Z
UID:1355-1775934000-1775941200@kitakyusyu-cafe-tudoi.com
SUMMARY:飲み会の集い
DESCRIPTION:小倉駅周辺\n費用は参加費500円込みで5000円以下\n締切りは4/4土曜日まで
URL:https://kitakyusyu-cafe-tudoi.com/event/%e9%a3%b2%e3%81%bf%e4%bc%9a%e3%81%ae%e9%9b%86%e3%81%84/
CATEGORIES:飲み会の集い
END:VEVENT
BEGIN:VEVENT
DTSTART;TZID=Asia/Tokyo:20260415T200000
DTEND;TZID=Asia/Tokyo:20260415T210000
DTSTAMP:20260421T072005
CREATED:20260328T120311Z
LAST-MODIFIED:20260328T120517Z
UID:1357-1776283200-1776286800@kitakyusyu-cafe-tudoi.com
SUMMARY:夜カフェの集い
DESCRIPTION:費用は参加費500円＋飲食代
URL:https://kitakyusyu-cafe-tudoi.com/event/%e5%a4%9c%e3%82%ab%e3%83%95%e3%82%a7%e3%81%ae%e9%9b%86%e3%81%84-4/
LOCATION:コメダ珈琲店 北九州三郎丸店
CATEGORIES:夜カフェ
END:VEVENT
BEGIN:VEVENT
DTSTART;TZID=Asia/Tokyo:20260426T080000
DTEND;TZID=Asia/Tokyo:20260426T090000
DTSTAMP:20260421T072005
CREATED:20260328T120447Z
LAST-MODIFIED:20260328T120447Z
UID:1359-1777190400-1777194000@kitakyusyu-cafe-tudoi.com
SUMMARY:朝カフェの集い
DESCRIPTION:参加費500円＋飲食代\nメンバーによっては場所変更もあり
URL:https://kitakyusyu-cafe-tudoi.com/event/%e6%9c%9d%e3%82%ab%e3%83%95%e3%82%a7%e3%81%ae%e9%9b%86%e3%81%84-5/
CATEGORIES:朝カフェ
END:VEVENT
END:VCALENDAR