BEGIN:VCALENDAR
VERSION:2.0
PRODID:-//北九州カフェの集い - ECPv6.15.11//NONSGML v1.0//EN
CALSCALE:GREGORIAN
METHOD:PUBLISH
X-WR-CALNAME:北九州カフェの集い
X-ORIGINAL-URL:https://kitakyusyu-cafe-tudoi.com
X-WR-CALDESC:北九州カフェの集い のイベント
REFRESH-INTERVAL;VALUE=DURATION:PT1H
X-Robots-Tag:noindex
X-PUBLISHED-TTL:PT1H
BEGIN:VTIMEZONE
TZID:Asia/Tokyo
BEGIN:STANDARD
TZOFFSETFROM:+0900
TZOFFSETTO:+0900
TZNAME:JST
DTSTART:20250101T000000
END:STANDARD
END:VTIMEZONE
BEGIN:VEVENT
DTSTART;TZID=Asia/Tokyo:20260103T000000
DTEND;TZID=Asia/Tokyo:20260103T000000
DTSTAMP:20260420T211017
CREATED:20251208T003126Z
LAST-MODIFIED:20251208T003138Z
UID:1306-1767398400-1767398400@kitakyusyu-cafe-tudoi.com
SUMMARY:2026新春初詣の集い
DESCRIPTION:場所は八坂神社（小倉北区） \n時間は午後の予定 \n集合場所と時間は参加者のみ伝えます。 \n今回参加費無料 \n必ず参加する連絡をしてください
URL:https://kitakyusyu-cafe-tudoi.com/event/2026%e6%96%b0%e6%98%a5%e5%88%9d%e8%a9%a3%e3%81%ae%e9%9b%86%e3%81%84/
CATEGORIES:各種イベント
END:VEVENT
BEGIN:VEVENT
DTSTART;TZID=Asia/Tokyo:20260111T080000
DTEND;TZID=Asia/Tokyo:20260111T090000
DTSTAMP:20260420T211017
CREATED:20251208T003241Z
LAST-MODIFIED:20251208T003241Z
UID:1308-1768118400-1768122000@kitakyusyu-cafe-tudoi.com
SUMMARY:朝カフェの集い
DESCRIPTION:参加費500円＋飲食代
URL:https://kitakyusyu-cafe-tudoi.com/event/%e6%9c%9d%e3%82%ab%e3%83%95%e3%82%a7%e3%81%ae%e9%9b%86%e3%81%84-2/
LOCATION:コメダ珈琲店 北九州三郎丸店
CATEGORIES:朝カフェ
END:VEVENT
BEGIN:VEVENT
DTSTART;TZID=Asia/Tokyo:20260114T200000
DTEND;TZID=Asia/Tokyo:20260114T210000
DTSTAMP:20260420T211017
CREATED:20251208T003353Z
LAST-MODIFIED:20251208T003750Z
UID:1310-1768420800-1768424400@kitakyusyu-cafe-tudoi.com
SUMMARY:夜カフェの集い
DESCRIPTION:参加費500円＋飲食代
URL:https://kitakyusyu-cafe-tudoi.com/event/%e5%a4%9c%e3%82%ab%e3%83%95%e3%82%a7%e3%81%ae%e9%9b%86%e3%81%84/
LOCATION:コメダ珈琲店 北九州三郎丸店
CATEGORIES:夜カフェ
END:VEVENT
BEGIN:VEVENT
DTSTART;TZID=Asia/Tokyo:20260124T150000
DTEND;TZID=Asia/Tokyo:20260124T160000
DTSTAMP:20260420T211017
CREATED:20251208T003700Z
LAST-MODIFIED:20251208T003700Z
UID:1312-1769266800-1769270400@kitakyusyu-cafe-tudoi.com
SUMMARY:昼カフェの集い
DESCRIPTION:参加費500円＋飲食代 \n場所　小倉北区　あつみ珈琲
URL:https://kitakyusyu-cafe-tudoi.com/event/%e6%98%bc%e3%82%ab%e3%83%95%e3%82%a7%e3%81%ae%e9%9b%86%e3%81%84/
CATEGORIES:昼カフェの集い（旧おすすめカフェの集い）
END:VEVENT
END:VCALENDAR