BEGIN:VCALENDAR
VERSION:2.0
PRODID:-//北九州カフェの集い - ECPv6.15.11//NONSGML v1.0//EN
CALSCALE:GREGORIAN
METHOD:PUBLISH
X-WR-CALNAME:北九州カフェの集い
X-ORIGINAL-URL:https://kitakyusyu-cafe-tudoi.com
X-WR-CALDESC:北九州カフェの集い のイベント
REFRESH-INTERVAL;VALUE=DURATION:PT1H
X-Robots-Tag:noindex
X-PUBLISHED-TTL:PT1H
BEGIN:VTIMEZONE
TZID:Asia/Tokyo
BEGIN:STANDARD
TZOFFSETFROM:+0900
TZOFFSETTO:+0900
TZNAME:JST
DTSTART:20240101T000000
END:STANDARD
END:VTIMEZONE
BEGIN:VEVENT
DTSTART;TZID=Asia/Tokyo:20250915T190000
DTEND;TZID=Asia/Tokyo:20250915T210000
DTSTAMP:20260421T033500
CREATED:20250831T021906Z
LAST-MODIFIED:20250831T021906Z
UID:1133-1757962800-1757970000@kitakyusyu-cafe-tudoi.com
SUMMARY:バトミントン
DESCRIPTION:
URL:https://kitakyusyu-cafe-tudoi.com/event/%e3%83%90%e3%83%88%e3%83%9f%e3%83%b3%e3%83%88%e3%83%b3-2/
LOCATION:小倉北体育館\, Japan
CATEGORIES:代表コネクション
END:VEVENT
END:VCALENDAR