BEGIN:VCALENDAR
VERSION:2.0
PRODID:-//北九州カフェの集い - ECPv6.15.11//NONSGML v1.0//EN
CALSCALE:GREGORIAN
METHOD:PUBLISH
X-WR-CALNAME:北九州カフェの集い
X-ORIGINAL-URL:https://kitakyusyu-cafe-tudoi.com
X-WR-CALDESC:北九州カフェの集い のイベント
REFRESH-INTERVAL;VALUE=DURATION:PT1H
X-Robots-Tag:noindex
X-PUBLISHED-TTL:PT1H
BEGIN:VTIMEZONE
TZID:Asia/Tokyo
BEGIN:STANDARD
TZOFFSETFROM:+0900
TZOFFSETTO:+0900
TZNAME:JST
DTSTART:20240101T000000
END:STANDARD
END:VTIMEZONE
BEGIN:VEVENT
DTSTART;TZID=Asia/Tokyo:20251207T100000
DTEND;TZID=Asia/Tokyo:20251207T110000
DTSTAMP:20260420T233900
CREATED:20250831T063418Z
LAST-MODIFIED:20251203T141025Z
UID:1153-1765101600-1765105200@kitakyusyu-cafe-tudoi.com
SUMMARY:昼カフェの集い　19軒目
DESCRIPTION:費用は参加費500円＋ご自身の飲食代 \n場所は戸畑区　マルハチ珈琲焙煎舎
URL:https://kitakyusyu-cafe-tudoi.com/event/%e3%81%8a%e3%81%99%e3%81%99%e3%82%81%e3%82%ab%e3%83%95%e3%82%a7%e3%81%ae%e9%9b%86%e3%81%84%e3%80%8019%e8%bb%92%e7%9b%ae/
CATEGORIES:昼カフェの集い（旧おすすめカフェの集い）
END:VEVENT
END:VCALENDAR